BEGIN:VCALENDAR
VERSION:2.0
PRODID:spatie/icalendar-generator
DESCRIPTION:Veranstaltungen von Dorfgemeinschaft Hajen
X-WR-CALDESC:Veranstaltungen von Dorfgemeinschaft Hajen
REFRESH-INTERVAL;VALUE=DURATION:PT1440M
X-PUBLISHED-TTL:PT1440M
BEGIN:VTIMEZONE
TZID:Europe/Berlin
BEGIN:STANDARD
DTSTART:20251026T030000Z
TZOFFSETFROM:+0200
TZOFFSETTO:+0100
END:STANDARD
BEGIN:DAYLIGHT
DTSTART:20260329T020000Z
TZOFFSETFROM:+0100
TZOFFSETTO:+0200
END:DAYLIGHT
END:VTIMEZONE
BEGIN:VTIMEZONE
TZID:UTC
BEGIN:STANDARD
DTSTART:20250728T234201Z
TZOFFSETFROM:+0000
TZOFFSETTO:+0000
END:STANDARD
END:VTIMEZONE
BEGIN:VEVENT
UID:69-26
DTSTAMP:20260424T234201Z
SUMMARY:Osterfeuer
LOCATION:Übungsplatz der Feuerwehr bei den Hüossen
ORGANIZER;CN=Doris:MAILTO:hof-mueller@t-online.de
DTSTART;TZID=Europe/Berlin:20260405T170000
DTEND;TZID=Europe/Berlin:20260405T230000
X-ALT-DESC;FMTTYPE=TEXT/HTML:Ostersonntag macht die Feuerwehr wie immer Ost
 erfeuer. &amp;nbsp\;
CATEGORIES:Feuerwehr,  General
URL;VALUE=URI:https://dorfgemeinschaft-hajen.de/mc-events/osterfeuer/?mc_id
 =69
END:VEVENT
END:VCALENDAR