BEGIN:VCALENDAR
VERSION:2.0
PRODID:spatie/icalendar-generator
DESCRIPTION:Veranstaltungen von Dorfgemeinschaft Hajen
X-WR-CALDESC:Veranstaltungen von Dorfgemeinschaft Hajen
REFRESH-INTERVAL;VALUE=DURATION:PT1440M
X-PUBLISHED-TTL:PT1440M
BEGIN:VTIMEZONE
TZID:Europe/Berlin
BEGIN:STANDARD
DTSTART:20251026T030000Z
TZOFFSETFROM:+0200
TZOFFSETTO:+0100
END:STANDARD
BEGIN:DAYLIGHT
DTSTART:20260329T020000Z
TZOFFSETFROM:+0100
TZOFFSETTO:+0200
END:DAYLIGHT
END:VTIMEZONE
BEGIN:VTIMEZONE
TZID:UTC
BEGIN:STANDARD
DTSTART:20250723T211826Z
TZOFFSETFROM:+0000
TZOFFSETTO:+0000
END:STANDARD
END:VTIMEZONE
BEGIN:VEVENT
UID:75-25
DTSTAMP:20260419T211826Z
SUMMARY:Mitgliederversammlung DRK
LOCATION:Sportheim Hajen Kuhkamp  Hajen  31860
ORGANIZER;CN=Doris:MAILTO:hof-mueller@t-online.de
DTSTART;TZID=Europe/Berlin:20260410T190000
DTEND;TZID=Europe/Berlin:20260410T203000
X-ALT-DESC;FMTTYPE=TEXT/HTML:
CATEGORIES:DRK
URL;VALUE=URI:https://dorfgemeinschaft-hajen.de/mc-events/mitgliederversamm
 lung-drk/?mc_id=75
END:VEVENT
END:VCALENDAR