BEGIN:VCALENDAR
VERSION:2.0
PRODID:spatie/icalendar-generator
DESCRIPTION:Veranstaltungen von Dorfgemeinschaft Hajen
X-WR-CALDESC:Veranstaltungen von Dorfgemeinschaft Hajen
REFRESH-INTERVAL;VALUE=DURATION:PT1440M
X-PUBLISHED-TTL:PT1440M
BEGIN:VTIMEZONE
TZID:Europe/Berlin
BEGIN:DAYLIGHT
DTSTART:20260329T020000Z
TZOFFSETFROM:+0100
TZOFFSETTO:+0200
END:DAYLIGHT
BEGIN:STANDARD
DTSTART:20261025T030000Z
TZOFFSETFROM:+0200
TZOFFSETTO:+0100
END:STANDARD
BEGIN:DAYLIGHT
DTSTART:20270328T020000Z
TZOFFSETFROM:+0100
TZOFFSETTO:+0200
END:DAYLIGHT
END:VTIMEZONE
BEGIN:VTIMEZONE
TZID:UTC
BEGIN:STANDARD
DTSTART:20250723T231859Z
TZOFFSETFROM:+0000
TZOFFSETTO:+0000
END:STANDARD
END:VTIMEZONE
BEGIN:VEVENT
UID:85-55
DTSTAMP:20260419T231859Z
SUMMARY:Kaffeeschnack 50er Jahre in Hajen
LOCATION:Gemeindehaus Herrenstraße  Hajen  31860
ORGANIZER;CN=Doris:MAILTO:hof-mueller@t-online.de
DTSTART;TZID=Europe/Berlin:20261114T150000
DTEND;TZID=Europe/Berlin:20261114T180000
X-ALT-DESC;FMTTYPE=TEXT/HTML:Wir sehen uns einige Fotos an und reden mitein
 ander. Was habt ihr in der Zeit in Hajen erlebt oder wo von habt ihr gehö
 rt. Es gibt Kaffee / Kuchen gegen Spende
CATEGORIES:Dorfgemeinschaft,  General
URL;VALUE=URI:https://dorfgemeinschaft-hajen.de/mc-events/kaffeeschnack-50e
 r-jahre-in-hajen/?mc_id=85
END:VEVENT
END:VCALENDAR